BEGIN:VCALENDAR
VERSION:2.0
PRODID:-//eventon.com NONSGML v1.0//EN
BEGIN:VEVENT
UID:69ea29c5b73ad
DTSTAMP:20260423T141637
DTSTART:20240718T163000Z
DTEND:20240718T235000Z
LOCATION:City Hall\,  Council Chamber 861 E. 5th\,  Calvert City\,  KY 42029
SUMMARY:Utility Board Meeting
DESCRIPTION: The Utility Board meets on the 3rd Thursday of each month at Calvert City Hall. All meetings are live-streamed on Calvert City's Youtube Page. Agendas can be found by clicking HERE! 
END:VEVENT
END:VCALENDAR