BEGIN:VCALENDAR
VERSION:2.0
PRODID:-//eventon.com NONSGML v1.0//EN
BEGIN:VEVENT
UID:69ea0f524b255
DTSTAMP:20260423T122346
DTSTART:20250409T130000Z
DTEND:20250409T235000Z
LOCATION:Calvert City Fire Training Center 
SUMMARY:Fire Training Center Board Meeting
DESCRIPTION: Agendas can be found by clicking HERE! 
END:VEVENT
END:VCALENDAR