BEGIN:VCALENDAR
VERSION:2.0
PRODID:-//eventon.com NONSGML v1.0//EN
BEGIN:VEVENT
UID:69e9fae795cec
DTSTAMP:20260423T105639
DTSTART:20341011T130000Z
DTEND:20341011T235000Z
LOCATION:Calvert City Fire Training Center 
SUMMARY:Fire Training Center Board Meeting
DESCRIPTION: Agendas can be found by clicking HERE! 
END:VEVENT
END:VCALENDAR