BEGIN:VCALENDAR
VERSION:2.0
PRODID:-//eventon.com NONSGML v1.0//EN
BEGIN:VEVENT
UID:69ed1ceb51b30
DTSTAMP:20260425T195835
DTSTART:20231007T100000Z
DTEND:20231007T180000Z
LOCATION:Memorial Park 
SUMMARY:CC River Folk Fest
DESCRIPTION: CC River Folk Festival is a beloved family-friendly music festival in Kentucky that offers a foot-stompin' good time for all ages! Music Lineup on the Calvert City Memorial Park Amphitheater Stage 1PM - 6 PM Kentucky Just Us Wheelhouse Rousters The Grascals Enjoy live music at Memorial Park Amphitheater\,  food\, [..]
END:VEVENT
END:VCALENDAR