BEGIN:VCALENDAR
VERSION:2.0
PRODID:-//eventon.com NONSGML v1.0//EN
BEGIN:VEVENT
UID:69ec16bae131b
DTSTAMP:20260425T011954
DTSTART:20241019T090000Z
DTEND:20241020T160000Z
LOCATION:Civic Center 
SUMMARY:The Good Wu Healing & Arts Fall Festival
DESCRIPTION: In this supportive community\,  you’ll find all the highest-quality goods and services to support your wellness journey\,  along with fun\,  inspiration\,  and delicious goodies. Purchase Area's Premiere Mind-Body-Spirit Wellness Expo! 2 days again!Sat 10/19 9 a.m.- 5 p.m.Sun 10/20 10 a.m.- 4 p.m. Over 55+ vendors\,  healers\,  eats&treats\,  FREE Classes/Peformances\, [..]
END:VEVENT
END:VCALENDAR