BEGIN:VCALENDAR
VERSION:2.0
PRODID:-//eventon.com NONSGML v1.0//EN
BEGIN:VEVENT
UID:69e8fa899c52c
DTSTAMP:20260422T164249
DTSTART:20210306T090000Z
DTEND:20210306T120000Z
LOCATION:Kentucky Dam Village 113 Administration Dr\,  Gilbertsville\,  Kentucky 42044
SUMMARY:Polar Plunge of Western Kentucky
DESCRIPTION: Click here for more information on how to sign up for the Western Kentucky Polar Plunge! Funds raised benefit the Special Olympics.
END:VEVENT
END:VCALENDAR